BEGIN:VCALENDAR
VERSION:2.0
PRODID:-//AFENET - ECPv6.3.7//NONSGML v1.0//EN
CALSCALE:GREGORIAN
METHOD:PUBLISH
X-ORIGINAL-URL:https://afenet.net
X-WR-CALDESC:Events for AFENET
REFRESH-INTERVAL;VALUE=DURATION:PT1H
X-Robots-Tag:noindex
X-PUBLISHED-TTL:PT1H
BEGIN:VTIMEZONE
TZID:Africa/Kampala
BEGIN:STANDARD
TZOFFSETFROM:+0300
TZOFFSETTO:+0300
TZNAME:EAT
DTSTART:20260101T000000
END:STANDARD
END:VTIMEZONE
BEGIN:VEVENT
DTSTART;TZID=Africa/Kampala:20260424T080000
DTEND;TZID=Africa/Kampala:20260430T170000
DTSTAMP:20260421T073128
CREATED:20260330T095807Z
LAST-MODIFIED:20260330T100738Z
UID:37605-1777017600-1777568400@afenet.net
SUMMARY:World Immunization Week
DESCRIPTION:World Immunization Week is celebrated annually during the last week of April (April 24–30) to promote vaccine use\, protecting people of all ages against diseases. Led by the WHO\, the 2025 theme is “Immunization for All is Humanly Possible\,” highlighting vaccines’ role in saving over 154 million lives in 50 years.
URL:https://afenet.net/event/world-immunization-week-3/
ATTACH;FMTTYPE=image/png:https://afenet.net/wp-content/uploads/2026/03/Screenshot-2026-03-30-at-13.05.37.png
END:VEVENT
BEGIN:VEVENT
DTSTART;VALUE=DATE:20260427
DTEND;VALUE=DATE:20260430
DTSTAMP:20260421T073128
CREATED:20250309T053450Z
LAST-MODIFIED:20260420T115438Z
UID:28028-1777248000-1777507199@afenet.net
SUMMARY:World Health Summit Regional Meeting 2026
DESCRIPTION:April 27–29 | World Health Summit Regional Meeting 2026 \n\n\n\n \n  \n\n\nThe WHS Regional Meeting 2026\, hosted by Aga Khan University\, will be held from April 27–29 at the United Nations Office at Nairobi (UNON). Leaders\, innovators\, and changemakers will gather to explore solutions that strengthen Africa’s health systems and advance global health progress.  Learn More.
URL:https://afenet.net/event/world-health-day-2/
CATEGORIES:General
ATTACH;FMTTYPE=image/png:https://afenet.net/wp-content/uploads/2025/03/Screenshot-2026-04-20-at-14.51.27.png
END:VEVENT
BEGIN:VEVENT
DTSTART;TZID=Africa/Kampala:20261118T080000
DTEND;TZID=Africa/Kampala:20261120T170000
DTSTAMP:20260421T073128
CREATED:20260331T164628Z
LAST-MODIFIED:20260420T120043Z
UID:37643-1794988800-1795194000@afenet.net
SUMMARY:European Scientific Conference on Applied Infectious Disease Epidemiology\, 18-20 November 2026
DESCRIPTION:18-20 November  | European Scientific Conference on Applied Infectious Disease Epidemiology \n\n\n\n \n  \n\n\nESCAIDE \nEuropean Scientific Conference on Applied Infectious Disease Epidemiology will take place on in  Stockholm and online\, 18-20 November 2026\nhttps://www.escaide.eu/en
URL:https://afenet.net/event/one-health-summit-lyon-april-5-7-2026/
ATTACH;FMTTYPE=image/jpeg:https://afenet.net/wp-content/uploads/2025/03/pexels-cottonbro-5083397-scaled.jpg
END:VEVENT
END:VCALENDAR