BEGIN:VCALENDAR
VERSION:2.0
PRODID:-//AFENET - ECPv6.3.7//NONSGML v1.0//EN
CALSCALE:GREGORIAN
METHOD:PUBLISH
X-ORIGINAL-URL:https://afenet.net
X-WR-CALDESC:Events for AFENET
REFRESH-INTERVAL;VALUE=DURATION:PT1H
X-Robots-Tag:noindex
X-PUBLISHED-TTL:PT1H
BEGIN:VTIMEZONE
TZID:Africa/Kampala
BEGIN:STANDARD
TZOFFSETFROM:+0300
TZOFFSETTO:+0300
TZNAME:EAT
DTSTART:20220101T000000
END:STANDARD
END:VTIMEZONE
BEGIN:VEVENT
DTSTART;TZID=Africa/Kampala:20220317T230000
DTEND;TZID=Africa/Kampala:20220317T230000
DTSTAMP:20260420T221240
CREATED:20200909T010227Z
LAST-MODIFIED:20210814T015840Z
UID:2060-1647558000-1647558000@afenet.net
SUMMARY:Use Hashtags To Support Online
DESCRIPTION:Well\, I got better. Ah\, now we see the violence inherent in the system! The swallow may fly south with the sun\, and the house martin or the plover may seek warmer climes in winter\, yet these are not strangers to our land. It’s only a model. It’s only a model.
URL:https://afenet.net/event/use-hashtags-to-support-online/
LOCATION:Party Haus\, Los Angelos\, 90013\, United States
CATEGORIES:Conference,General
ATTACH;FMTTYPE=image/jpeg:https://afenet.net/wp-content/uploads/2020/09/give-5.jpg
ORGANIZER;CN="Famous Amos":MAILTO:cookies@aol.com
END:VEVENT
END:VCALENDAR