BEGIN:VCALENDAR
VERSION:2.0
PRODID:-//AFENET - ECPv6.3.7//NONSGML v1.0//EN
CALSCALE:GREGORIAN
METHOD:PUBLISH
X-WR-CALNAME:AFENET
X-ORIGINAL-URL:https://afenet.net
X-WR-CALDESC:Events for AFENET
REFRESH-INTERVAL;VALUE=DURATION:PT1H
X-Robots-Tag:noindex
X-PUBLISHED-TTL:PT1H
BEGIN:VTIMEZONE
TZID:Africa/Kampala
BEGIN:STANDARD
TZOFFSETFROM:+0300
TZOFFSETTO:+0300
TZNAME:EAT
DTSTART:20220101T000000
END:STANDARD
END:VTIMEZONE
BEGIN:VEVENT
DTSTART;TZID=Africa/Kampala:20220408T130000
DTEND;TZID=Africa/Kampala:20220408T130000
DTSTAMP:20260420T204802
CREATED:20200616T020220Z
LAST-MODIFIED:20230616T143122Z
UID:2054-1649422800-1649422800@afenet.net
SUMMARY:Excitement From A Quote About Charity
DESCRIPTION:What’s the point of going out? We’re just going to wind up back here anyway. I’m going to the back seat of my car\, with the woman I love\, and I won’t be back for ten minutes! And now\, in the spirit of the season: start shopping. And for every dollar of Krusty merchandise you buy\, I will be nice to a sick kid. For legal purposes\, sick kids may include hookers with a cold. The Internet King? I wonder if he could provide faster nudity… Yes! I am a citizen! Now which way to the welfare office? I’m kidding\, I’m kidding. I work\, I work.
URL:https://afenet.net/event/excitement-from-a-quote-about-charity/
LOCATION:Winchester Mystery House\, San Jose\, 95128\, United States
ATTACH;FMTTYPE=image/jpeg:https://afenet.net/wp-content/uploads/2020/09/give-3.jpg
END:VEVENT
END:VCALENDAR